BEGIN:VCALENDAR
VERSION:2.0
PRODID:-//Steinbeis Gemeinschaftschule Ilsfeld - ECPv6.15.14//NONSGML v1.0//EN
CALSCALE:GREGORIAN
METHOD:PUBLISH
X-ORIGINAL-URL:https://www.gms.ilsfeld.de
X-WR-CALDESC:Veranstaltungen für Steinbeis Gemeinschaftschule Ilsfeld
REFRESH-INTERVAL;VALUE=DURATION:PT1H
X-Robots-Tag:noindex
X-PUBLISHED-TTL:PT1H
BEGIN:VTIMEZONE
TZID:Europe/Berlin
BEGIN:DAYLIGHT
TZOFFSETFROM:+0100
TZOFFSETTO:+0200
TZNAME:CEST
DTSTART:20150329T010000
END:DAYLIGHT
BEGIN:STANDARD
TZOFFSETFROM:+0200
TZOFFSETTO:+0100
TZNAME:CET
DTSTART:20151025T010000
END:STANDARD
BEGIN:DAYLIGHT
TZOFFSETFROM:+0100
TZOFFSETTO:+0200
TZNAME:CEST
DTSTART:20160327T010000
END:DAYLIGHT
BEGIN:STANDARD
TZOFFSETFROM:+0200
TZOFFSETTO:+0100
TZNAME:CET
DTSTART:20161030T010000
END:STANDARD
BEGIN:DAYLIGHT
TZOFFSETFROM:+0100
TZOFFSETTO:+0200
TZNAME:CEST
DTSTART:20170326T010000
END:DAYLIGHT
BEGIN:STANDARD
TZOFFSETFROM:+0200
TZOFFSETTO:+0100
TZNAME:CET
DTSTART:20171029T010000
END:STANDARD
BEGIN:DAYLIGHT
TZOFFSETFROM:+0100
TZOFFSETTO:+0200
TZNAME:CEST
DTSTART:20180325T010000
END:DAYLIGHT
BEGIN:STANDARD
TZOFFSETFROM:+0200
TZOFFSETTO:+0100
TZNAME:CET
DTSTART:20181028T010000
END:STANDARD
BEGIN:DAYLIGHT
TZOFFSETFROM:+0100
TZOFFSETTO:+0200
TZNAME:CEST
DTSTART:20190331T010000
END:DAYLIGHT
BEGIN:STANDARD
TZOFFSETFROM:+0200
TZOFFSETTO:+0100
TZNAME:CET
DTSTART:20191027T010000
END:STANDARD
END:VTIMEZONE
BEGIN:VEVENT
DTSTART;VALUE=DATE:20171222
DTEND;VALUE=DATE:20180107
DTSTAMP:20260423T105749
CREATED:20171109T112105Z
LAST-MODIFIED:20171110T104643Z
UID:6796-1513915200-1515211199@www.gms.ilsfeld.de
SUMMARY:Weihnachtsferien
DESCRIPTION:
URL:https://www.gms.ilsfeld.de/event/weihnachtsferien-3/
CATEGORIES:Ferienkalender
END:VEVENT
BEGIN:VEVENT
DTSTART;TZID=Europe/Berlin:20171221T080000
DTEND;TZID=Europe/Berlin:20171221T113000
DTSTAMP:20260423T105749
CREATED:20170908T155934Z
LAST-MODIFIED:20170908T155942Z
UID:6675-1513843200-1513855800@www.gms.ilsfeld.de
SUMMARY:Weihnachtsgottesdienst
DESCRIPTION:
URL:https://www.gms.ilsfeld.de/event/weizhnachtsgottesdienst/
CATEGORIES:Schulkalender
END:VEVENT
BEGIN:VEVENT
DTSTART;TZID=Europe/Berlin:20171109T170000
DTEND;TZID=Europe/Berlin:20171109T190000
DTSTAMP:20260423T105749
CREATED:20170908T160031Z
LAST-MODIFIED:20170908T160050Z
UID:6678-1510246800-1510254000@www.gms.ilsfeld.de
SUMMARY:Laternenlauf
DESCRIPTION:
URL:https://www.gms.ilsfeld.de/event/laternenlauf/
CATEGORIES:Schulkalender,Veranstaltung
END:VEVENT
BEGIN:VEVENT
DTSTART;TZID=Europe/Berlin:20171108T190000
DTEND;TZID=Europe/Berlin:20171108T210000
DTSTAMP:20260423T105749
CREATED:20170908T155821Z
LAST-MODIFIED:20170908T155821Z
UID:6673-1510167600-1510174800@www.gms.ilsfeld.de
SUMMARY:Schulkonferenz
DESCRIPTION:
URL:https://www.gms.ilsfeld.de/event/schulkonferenz/
CATEGORIES:Schulkalender
END:VEVENT
BEGIN:VEVENT
DTSTART;TZID=Europe/Berlin:20171025T190000
DTEND;TZID=Europe/Berlin:20171025T210000
DTSTAMP:20260423T105749
CREATED:20170908T155708Z
LAST-MODIFIED:20170908T155716Z
UID:6671-1508958000-1508965200@www.gms.ilsfeld.de
SUMMARY:Elternbeiratssitzung
DESCRIPTION:
URL:https://www.gms.ilsfeld.de/event/elternbeiratssitzung/
CATEGORIES:Schulkalender,Veranstaltung
END:VEVENT
BEGIN:VEVENT
DTSTART;TZID=Europe/Berlin:20171011T193000
DTEND;TZID=Europe/Berlin:20171011T210000
DTSTAMP:20260423T105749
CREATED:20170908T155608Z
LAST-MODIFIED:20170908T155612Z
UID:6669-1507750200-1507755600@www.gms.ilsfeld.de
SUMMARY:Elternabend Klasse 5-10
DESCRIPTION:
URL:https://www.gms.ilsfeld.de/event/elternabend-klasse-5-10/
CATEGORIES:Schulkalender,Veranstaltung
END:VEVENT
BEGIN:VEVENT
DTSTART;TZID=Europe/Berlin:20170929T100000
DTEND;TZID=Europe/Berlin:20170929T123000
DTSTAMP:20260423T105749
CREATED:20170908T155511Z
LAST-MODIFIED:20170908T155524Z
UID:6667-1506679200-1506688200@www.gms.ilsfeld.de
SUMMARY:Schulversammlung
DESCRIPTION:
URL:https://www.gms.ilsfeld.de/event/schulversammlung/
CATEGORIES:Schulkalender,Veranstaltung
END:VEVENT
BEGIN:VEVENT
DTSTART;TZID=Europe/Berlin:20170916T093000
DTEND;TZID=Europe/Berlin:20170916T130000
DTSTAMP:20260423T105749
CREATED:20170908T155421Z
LAST-MODIFIED:20170908T155421Z
UID:6665-1505554200-1505566800@www.gms.ilsfeld.de
SUMMARY:Einschulungsfeier
DESCRIPTION:9.30 Uhr Gottesdienst Bartolomäuskirche \n10.30 Uhr Einschulungsfeier Schozachtalhalle
URL:https://www.gms.ilsfeld.de/event/einschulungsfeier/
CATEGORIES:Schulkalender,Veranstaltung
END:VEVENT
BEGIN:VEVENT
DTSTART;TZID=Europe/Berlin:20170913T200000
DTEND;TZID=Europe/Berlin:20170913T213000
DTSTAMP:20260423T105749
CREATED:20170908T155253Z
LAST-MODIFIED:20170908T155253Z
UID:6663-1505332800-1505338200@www.gms.ilsfeld.de
SUMMARY:Elternabend Klasse 1
DESCRIPTION:
URL:https://www.gms.ilsfeld.de/event/elternabend-klasse-1/
END:VEVENT
BEGIN:VEVENT
DTSTART;TZID=Europe/Berlin:20170912T090000
DTEND;TZID=Europe/Berlin:20170912T120000
DTSTAMP:20260423T105749
CREATED:20170908T160212Z
LAST-MODIFIED:20170908T160212Z
UID:6682-1505206800-1505217600@www.gms.ilsfeld.de
SUMMARY:Einschulung Klasse 5
DESCRIPTION:
URL:https://www.gms.ilsfeld.de/event/einschulung-klasse-5/
CATEGORIES:Schulkalender,Veranstaltung
END:VEVENT
BEGIN:VEVENT
DTSTART;TZID=Europe/Berlin:20170911T083000
DTEND;TZID=Europe/Berlin:20170911T120000
DTSTAMP:20260423T105749
CREATED:20170908T160128Z
LAST-MODIFIED:20170908T160138Z
UID:6680-1505118600-1505131200@www.gms.ilsfeld.de
SUMMARY:Back to School
DESCRIPTION:
URL:https://www.gms.ilsfeld.de/event/back-to-school/
CATEGORIES:Schulkalender,Veranstaltung
END:VEVENT
BEGIN:VEVENT
DTSTART;TZID=Europe/Berlin:20170908T100000
DTEND;TZID=Europe/Berlin:20170908T123000
DTSTAMP:20260423T105749
CREATED:20170908T155047Z
LAST-MODIFIED:20170908T155056Z
UID:6661-1504864800-1504873800@www.gms.ilsfeld.de
SUMMARY:Antritts-GLK
DESCRIPTION:
URL:https://www.gms.ilsfeld.de/event/antritts-glk/
CATEGORIES:Schulkalender
END:VEVENT
BEGIN:VEVENT
DTSTART;TZID=Europe/Berlin:20170511T083000
DTEND;TZID=Europe/Berlin:20170511T130000
DTSTAMP:20260423T105749
CREATED:20161018T123204Z
LAST-MODIFIED:20161018T123204Z
UID:5282-1494491400-1494507600@www.gms.ilsfeld.de
SUMMARY:Schriftliche Prüfung Englisch Klasse 10
DESCRIPTION:Heute findet die schriftliche Prüfung Englisch in Klasse 10 statt. Wir wünschen allen Prüflingen viel Erfolg!
URL:https://www.gms.ilsfeld.de/event/schriftliche-pruefung-englisch-klasse-10/
CATEGORIES:Prüfungen
END:VEVENT
BEGIN:VEVENT
DTSTART;TZID=Europe/Berlin:20170510T083000
DTEND;TZID=Europe/Berlin:20170510T130000
DTSTAMP:20260423T105749
CREATED:20161018T123531Z
LAST-MODIFIED:20161018T133900Z
UID:5288-1494405000-1494421200@www.gms.ilsfeld.de
SUMMARY:Hauptschulabschlussprüfung Englisch
DESCRIPTION:Heute findet die schriftliche Prüfung Englisch in Klasse 9 statt. Wir wünschen allen Prüflingen viel Erfolg!
URL:https://www.gms.ilsfeld.de/event/hauptschulabschlusspruefung-englisch/
CATEGORIES:Prüfungen
END:VEVENT
BEGIN:VEVENT
DTSTART;TZID=Europe/Berlin:20170504T083000
DTEND;TZID=Europe/Berlin:20170504T130000
DTSTAMP:20260423T105749
CREATED:20161018T123039Z
LAST-MODIFIED:20161018T123039Z
UID:5280-1493886600-1493902800@www.gms.ilsfeld.de
SUMMARY:Schriftliche Prüfung Mathe Klasse 10
DESCRIPTION:Heute findet die schriftliche Prüfung Mathe in Klasse 10 statt. Wir wünschen allen Prüflingen viel Erfolg!
URL:https://www.gms.ilsfeld.de/event/schriftliche-pruefung-mathe-klasse-10/
CATEGORIES:Prüfungen
END:VEVENT
BEGIN:VEVENT
DTSTART;TZID=Europe/Berlin:20170503T083000
DTEND;TZID=Europe/Berlin:20170503T170000
DTSTAMP:20260423T105749
CREATED:20161018T123422Z
LAST-MODIFIED:20161018T123422Z
UID:5286-1493800200-1493830800@www.gms.ilsfeld.de
SUMMARY:Hauptschulabschlussprüfung Mathe
DESCRIPTION:Heute findet die schriftliche Prüfung Mathe in Klasse 9 statt. Wir wünschen allen Prüflingen viel Erfolg!
URL:https://www.gms.ilsfeld.de/event/hauptschulabschlusspruefung-mathe/
CATEGORIES:Prüfungen
END:VEVENT
BEGIN:VEVENT
DTSTART;TZID=Europe/Berlin:20170427T083000
DTEND;TZID=Europe/Berlin:20170427T130000
DTSTAMP:20260423T105749
CREATED:20161018T122938Z
LAST-MODIFIED:20161018T122938Z
UID:5278-1493281800-1493298000@www.gms.ilsfeld.de
SUMMARY:Schriftliche Prüfung Deutsch Klasse 10
DESCRIPTION:Heute findet die schriftliche Prüfung Deutsch in Klasse 10 statt. Wir wünschen allen Prüflingen viel Erfolg!
URL:https://www.gms.ilsfeld.de/event/schriftliche-pruefung-deutsch-klasse-10/
CATEGORIES:Prüfungen
END:VEVENT
BEGIN:VEVENT
DTSTART;TZID=Europe/Berlin:20170426T083000
DTEND;TZID=Europe/Berlin:20170426T130000
DTSTAMP:20260423T105749
CREATED:20161018T123308Z
LAST-MODIFIED:20161018T123308Z
UID:5284-1493195400-1493211600@www.gms.ilsfeld.de
SUMMARY:Hauptschulabschlussprüfung Deutsch
DESCRIPTION:Heute findet die schriftliche Prüfung Deutsch in Klasse 9 statt. Wir wünschen allen Prüflingen viel Erfolg!
URL:https://www.gms.ilsfeld.de/event/hauptschulabschlusspruefung-deutsch/
CATEGORIES:Prüfungen
END:VEVENT
BEGIN:VEVENT
DTSTART;TZID=Europe/Berlin:20170405T080000
DTEND;TZID=Europe/Berlin:20170405T160000
DTSTAMP:20260423T105749
CREATED:20170316T112559Z
LAST-MODIFIED:20170316T112559Z
UID:6154-1491379200-1491408000@www.gms.ilsfeld.de
SUMMARY:Anmeldung Klasse 5
DESCRIPTION:
URL:https://www.gms.ilsfeld.de/event/anmeldung-klasse-5-2/
END:VEVENT
BEGIN:VEVENT
DTSTART;TZID=Europe/Berlin:20170404T080000
DTEND;TZID=Europe/Berlin:20170404T140000
DTSTAMP:20260423T105749
CREATED:20161019T143021Z
LAST-MODIFIED:20170316T112908Z
UID:5316-1491292800-1491314400@www.gms.ilsfeld.de
SUMMARY:Anmeldung Klasse 5
DESCRIPTION:
URL:https://www.gms.ilsfeld.de/event/anmeldung-klasse-5/
CATEGORIES:Schulkalender,Veranstaltung
END:VEVENT
BEGIN:VEVENT
DTSTART;TZID=Europe/Berlin:20170330T140000
DTEND;TZID=Europe/Berlin:20170330T170000
DTSTAMP:20260423T105749
CREATED:20161019T142928Z
LAST-MODIFIED:20161019T142928Z
UID:5314-1490882400-1490893200@www.gms.ilsfeld.de
SUMMARY:Anmeldung Klasse 1
DESCRIPTION:
URL:https://www.gms.ilsfeld.de/event/anmeldung-klasse-1/
CATEGORIES:Schulkalender,Veranstaltung
END:VEVENT
BEGIN:VEVENT
DTSTART;TZID=Europe/Berlin:20170222T190000
DTEND;TZID=Europe/Berlin:20170222T210000
DTSTAMP:20260423T105749
CREATED:20170214T095148Z
LAST-MODIFIED:20170214T095148Z
UID:6044-1487790000-1487797200@www.gms.ilsfeld.de
SUMMARY:Informationbsabend "Ilsfelder Weg"
DESCRIPTION:
URL:https://www.gms.ilsfeld.de/event/informationbsabend-ilsfelder-weg/
CATEGORIES:Schulkalender,Veranstaltung
ATTACH;FMTTYPE=image/jpeg:https://www.gms.ilsfeld.de/wp-content/uploads/2017/02/IMG_6190.jpg
END:VEVENT
BEGIN:VEVENT
DTSTART;TZID=Europe/Berlin:20170216T180000
DTEND;TZID=Europe/Berlin:20170216T200000
DTSTAMP:20260423T105749
CREATED:20170214T095955Z
LAST-MODIFIED:20170214T130600Z
UID:6046-1487268000-1487275200@www.gms.ilsfeld.de
SUMMARY:Steini-Show
DESCRIPTION:
URL:https://www.gms.ilsfeld.de/event/steini-show/
ATTACH;FMTTYPE=image/jpeg:https://www.gms.ilsfeld.de/wp-content/uploads/2017/02/IMG_6195.jpg
END:VEVENT
BEGIN:VEVENT
DTSTART;TZID=Europe/Berlin:20170121T110000
DTEND;TZID=Europe/Berlin:20170121T130000
DTSTAMP:20260423T105749
CREATED:20161019T143153Z
LAST-MODIFIED:20161212T115555Z
UID:5318-1484996400-1485003600@www.gms.ilsfeld.de
SUMMARY:Tag der offenen Tür
DESCRIPTION:
URL:https://www.gms.ilsfeld.de/event/tag-der-offenen-tuer-2/
CATEGORIES:Schulkalender,Veranstaltung
END:VEVENT
BEGIN:VEVENT
DTSTART;VALUE=DATE:20161223
DTEND;VALUE=DATE:20170108
DTSTAMP:20260423T105749
CREATED:20161209T080143Z
LAST-MODIFIED:20161209T080209Z
UID:5490-1482465600-1483761599@www.gms.ilsfeld.de
SUMMARY:Weihnachtsferien
DESCRIPTION:
URL:https://www.gms.ilsfeld.de/event/weihnachtsferien-2/
CATEGORIES:Ferienkalender
END:VEVENT
BEGIN:VEVENT
DTSTART;TZID=Europe/Berlin:20161222T080000
DTEND;TZID=Europe/Berlin:20161222T130000
DTSTAMP:20260423T105749
CREATED:20161018T122716Z
LAST-MODIFIED:20161121T120650Z
UID:5276-1482393600-1482411600@www.gms.ilsfeld.de
SUMMARY:Wintersporttag
DESCRIPTION:Traditionell findet unser Wintersporttag in der Heilbronner Eishalle statt. Dieses Jahr hoffen wir\, dass der Termin kurz vor den Weihnachtsferien klappt
URL:https://www.gms.ilsfeld.de/event/wintersporttag/
CATEGORIES:Schulkalender,Veranstaltung
END:VEVENT
BEGIN:VEVENT
DTSTART;TZID=Europe/Berlin:20161210T080000
DTEND;TZID=Europe/Berlin:20161210T170000
DTSTAMP:20260423T105749
CREATED:20161018T122213Z
LAST-MODIFIED:20161018T122352Z
UID:5274-1481356800-1481389200@www.gms.ilsfeld.de
SUMMARY:Fahrt nach Collmar
DESCRIPTION:Auch dieses Jahr geht es für alle interessierten Französischschüler zum Weihnachtsmarkt nach Collmar
URL:https://www.gms.ilsfeld.de/event/fahrt-nach-collmar/
CATEGORIES:Schulkalender,Veranstaltung
END:VEVENT
BEGIN:VEVENT
DTSTART;TZID=Europe/Berlin:20161206T074000
DTEND;TZID=Europe/Berlin:20161206T130000
DTSTAMP:20260423T105749
CREATED:20161018T121030Z
LAST-MODIFIED:20161018T121338Z
UID:5271-1481010000-1481029200@www.gms.ilsfeld.de
SUMMARY:Nikolausturnier
DESCRIPTION:Unser diesjähriges Nikolausturnier\, ein Völkerballturnier\, findet dieses Jahr tatsächlich am Nikolaustag statt.
URL:https://www.gms.ilsfeld.de/event/nikolausturnier-3/
CATEGORIES:Schulkalender,Veranstaltung
END:VEVENT
BEGIN:VEVENT
DTSTART;TZID=Europe/Berlin:20161128T082500
DTEND;TZID=Europe/Berlin:20161128T120000
DTSTAMP:20260423T105749
CREATED:20161026T142253Z
LAST-MODIFIED:20161026T142253Z
UID:5342-1480321500-1480334400@www.gms.ilsfeld.de
SUMMARY:Basteltag in der Primarstufe
DESCRIPTION:Heute findet in der Primarstufe der alljährliche Basteltag statt.
URL:https://www.gms.ilsfeld.de/event/basteltag-in-der-primarstufe/
CATEGORIES:Schulkalender
END:VEVENT
BEGIN:VEVENT
DTSTART;TZID=Europe/Berlin:20161126T140000
DTEND;TZID=Europe/Berlin:20161126T230000
DTSTAMP:20260423T105749
CREATED:20161018T120433Z
LAST-MODIFIED:20161018T120433Z
UID:5241-1480168800-1480201200@www.gms.ilsfeld.de
SUMMARY:Ilsfelder Weihnachtsmarkt
DESCRIPTION:Die Steinbeis Gemeinschaftsschule ist dieses Jahr wieder mit einem eigenen Stand auf dem Ilsfelder Weihnachtsmarkt vertreten.
URL:https://www.gms.ilsfeld.de/event/ilsfelder-weihnachtsmarkt/
CATEGORIES:Schulkalender,Veranstaltung
END:VEVENT
END:VCALENDAR